Package: SwathXtend Version: 2.28.0 Command: /home/biocbuild/R/R/bin/R CMD build --keep-empty-dirs --no-resave-data SwathXtend StartedAt: 2025-02-04 03:25:24 -0000 (Tue, 04 Feb 2025) EndedAt: 2025-02-04 03:30:37 -0000 (Tue, 04 Feb 2025) EllapsedTime: 312.5 seconds RetCode: 0 Status: OK PackageFile: SwathXtend_2.28.0.tar.gz PackageFileSize: 346.4 MiB