Package: SwathXtend Version: 2.28.0 Command: /home/biocbuild/R/R/bin/R CMD INSTALL SwathXtend StartedAt: 2025-02-03 21:19:08 -0000 (Mon, 03 Feb 2025) EndedAt: 2025-02-03 21:19:13 -0000 (Mon, 03 Feb 2025) EllapsedTime: 5.1 seconds RetCode: 0 Status: OK