Package: SynExtend Version: 1.18.0 Command: /Library/Frameworks/R.framework/Resources/bin/R CMD build --keep-empty-dirs --no-resave-data SynExtend StartedAt: 2025-02-04 09:30:26 -0500 (Tue, 04 Feb 2025) EndedAt: 2025-02-04 09:31:40 -0500 (Tue, 04 Feb 2025) EllapsedTime: 73.9 seconds RetCode: 0 Status: OK PackageFile: SynExtend_1.18.0.tar.gz PackageFileSize: 2.764 MiB