Package: SynExtend Version: 1.18.0 Command: /Library/Frameworks/R.framework/Resources/bin/R CMD check --install=check:SynExtend.install-out.txt --library=/Library/Frameworks/R.framework/Resources/library --no-vignettes --timings SynExtend_1.18.0.tar.gz StartedAt: 2025-02-01 11:29:28 -0500 (Sat, 01 Feb 2025) EndedAt: 2025-02-01 11:39:01 -0500 (Sat, 01 Feb 2025) EllapsedTime: 572.7 seconds RetCode: 0 Status: OK CheckDir: SynExtend.Rcheck Warnings: 0