Package: SynExtend Version: 1.18.0 Command: rm -rf SynExtend.buildbin-libdir && mkdir SynExtend.buildbin-libdir && /Users/biocbuild/BBS/utils/build-universal.sh SynExtend_1.18.0.tar.gz /Library/Frameworks/R.framework/Resources/bin/R SynExtend.buildbin-libdir StartedAt: 2024-11-09 17:14:55 -0500 (Sat, 09 Nov 2024) EndedAt: 2024-11-09 17:15:06 -0500 (Sat, 09 Nov 2024) EllapsedTime: 11.3 seconds RetCode: 0 Status: OK PackageFile: SynExtend_1.18.0.tgz PackageFileSize: 3.547 MiB