Package: SynExtend Version: 1.18.0 Command: rm -rf SynExtend.buildbin-libdir && mkdir SynExtend.buildbin-libdir && /Users/biocbuild/BBS/utils/build-universal.sh SynExtend_1.18.0.tar.gz /Library/Frameworks/R.framework/Resources/bin/R SynExtend.buildbin-libdir StartedAt: 2025-01-31 13:49:42 -0500 (Fri, 31 Jan 2025) EndedAt: 2025-01-31 13:50:48 -0500 (Fri, 31 Jan 2025) EllapsedTime: 66.5 seconds RetCode: 0 Status: OK PackageFile: SynExtend_1.18.0.tgz PackageFileSize: 3.548 MiB