Package: SynExtend Version: 1.18.0 Command: /Library/Frameworks/R.framework/Resources/bin/R CMD build --keep-empty-dirs --no-resave-data SynExtend StartedAt: 2025-02-03 22:48:31 -0500 (Mon, 03 Feb 2025) EndedAt: 2025-02-03 22:50:48 -0500 (Mon, 03 Feb 2025) EllapsedTime: 136.8 seconds RetCode: 0 Status: OK PackageFile: SynExtend_1.18.0.tar.gz PackageFileSize: 2.764 MiB