Package: SynExtend Version: 1.18.0 Command: /Library/Frameworks/R.framework/Resources/bin/R CMD INSTALL SynExtend StartedAt: 2025-01-30 15:26:57 -0500 (Thu, 30 Jan 2025) EndedAt: 2025-01-30 15:28:06 -0500 (Thu, 30 Jan 2025) EllapsedTime: 68.9 seconds RetCode: 0 Status: OK