Package: SynExtend Version: 1.18.0 Command: rm -rf SynExtend.buildbin-libdir && mkdir SynExtend.buildbin-libdir && F:\biocbuild\bbs-3.20-bioc\R\bin\R.exe CMD INSTALL --build --library=SynExtend.buildbin-libdir SynExtend_1.18.0.tar.gz StartedAt: 2025-02-04 09:38:52 -0500 (Tue, 04 Feb 2025) EndedAt: 2025-02-04 09:40:16 -0500 (Tue, 04 Feb 2025) EllapsedTime: 83.7 seconds RetCode: 0 Status: OK PackageFile: SynExtend_1.18.0.zip PackageFileSize: 3.729 MiB