Package: SynExtend Version: 1.18.0 Command: F:\biocbuild\bbs-3.20-bioc\R\bin\R.exe CMD INSTALL SynExtend StartedAt: 2025-01-30 15:43:45 -0500 (Thu, 30 Jan 2025) EndedAt: 2025-01-30 15:45:16 -0500 (Thu, 30 Jan 2025) EllapsedTime: 91.3 seconds RetCode: 0 Status: OK