Package: SynExtend Version: 1.18.0 Command: /home/biocbuild/R/R/bin/R CMD build --keep-empty-dirs --no-resave-data SynExtend StartedAt: 2025-02-04 03:26:30 -0000 (Tue, 04 Feb 2025) EndedAt: 2025-02-04 03:28:03 -0000 (Tue, 04 Feb 2025) EllapsedTime: 93.2 seconds RetCode: 0 Status: OK PackageFile: SynExtend_1.18.0.tar.gz PackageFileSize: 2.73 MiB