Package: SynExtend Version: 1.18.0 Command: /home/biocbuild/R/R/bin/R CMD INSTALL SynExtend StartedAt: 2025-02-03 20:34:58 -0000 (Mon, 03 Feb 2025) EndedAt: 2025-02-03 20:35:32 -0000 (Mon, 03 Feb 2025) EllapsedTime: 34.4 seconds RetCode: 0 Status: OK