Package: SynMut Version: 1.22.0 Command: rm -rf SynMut.buildbin-libdir && mkdir SynMut.buildbin-libdir && /Users/biocbuild/BBS/utils/build-universal.sh SynMut_1.22.0.tar.gz /Library/Frameworks/R.framework/Resources/bin/R SynMut.buildbin-libdir StartedAt: 2025-01-31 13:49:46 -0500 (Fri, 31 Jan 2025) EndedAt: 2025-01-31 13:50:15 -0500 (Fri, 31 Jan 2025) EllapsedTime: 29.3 seconds RetCode: 0 Status: OK PackageFile: SynMut_1.22.0.tgz PackageFileSize: 314.5 KiB