Package: SynMut Version: 1.22.0 Command: /Library/Frameworks/R.framework/Resources/bin/R CMD build --keep-empty-dirs --no-resave-data SynMut StartedAt: 2025-02-03 22:49:00 -0500 (Mon, 03 Feb 2025) EndedAt: 2025-02-03 22:49:46 -0500 (Mon, 03 Feb 2025) EllapsedTime: 45.4 seconds RetCode: 0 Status: OK PackageFile: SynMut_1.22.0.tar.gz PackageFileSize: 104.7 KiB