Package: SynMut Version: 1.22.0 Command: /home/biocbuild/R/R/bin/R CMD build --keep-empty-dirs --no-resave-data SynMut StartedAt: 2025-02-04 03:26:35 -0000 (Tue, 04 Feb 2025) EndedAt: 2025-02-04 03:27:03 -0000 (Tue, 04 Feb 2025) EllapsedTime: 28.0 seconds RetCode: 0 Status: OK PackageFile: SynMut_1.22.0.tar.gz PackageFileSize: 107.2 KiB