Package: TAPseq Version: 1.18.0 Command: rm -rf TAPseq.buildbin-libdir && mkdir TAPseq.buildbin-libdir && /Users/biocbuild/BBS/utils/build-universal.sh TAPseq_1.18.0.tar.gz /Library/Frameworks/R.framework/Resources/bin/R TAPseq.buildbin-libdir StartedAt: 2025-02-05 18:04:31 -0500 (Wed, 05 Feb 2025) EndedAt: 2025-02-05 18:05:23 -0500 (Wed, 05 Feb 2025) EllapsedTime: 51.7 seconds RetCode: 0 Status: OK PackageFile: TAPseq_1.18.0.tgz PackageFileSize: 2.955 MiB