Package: TAPseq Version: 1.18.0 Command: /Library/Frameworks/R.framework/Resources/bin/R CMD check --install=check:TAPseq.install-out.txt --library=/Library/Frameworks/R.framework/Resources/library --no-vignettes --timings TAPseq_1.18.0.tar.gz StartedAt: 2025-02-05 12:30:46 -0500 (Wed, 05 Feb 2025) EndedAt: 2025-02-05 12:42:17 -0500 (Wed, 05 Feb 2025) EllapsedTime: 691.0 seconds RetCode: 0 Status: WARNINGS CheckDir: TAPseq.Rcheck Warnings: 1