Package: TAPseq Version: 1.18.0 Command: /Library/Frameworks/R.framework/Resources/bin/R CMD check --install=check:TAPseq.install-out.txt --library=/Library/Frameworks/R.framework/Resources/library --no-vignettes --timings TAPseq_1.18.0.tar.gz StartedAt: 2025-02-04 11:08:14 -0500 (Tue, 04 Feb 2025) EndedAt: 2025-02-04 11:26:01 -0500 (Tue, 04 Feb 2025) EllapsedTime: 1066.9 seconds RetCode: 0 Status: WARNINGS CheckDir: TAPseq.Rcheck Warnings: 1