Package: TAPseq Version: 1.18.0 Command: /Library/Frameworks/R.framework/Resources/bin/R CMD INSTALL TAPseq StartedAt: 2025-02-03 15:46:40 -0500 (Mon, 03 Feb 2025) EndedAt: 2025-02-03 15:48:06 -0500 (Mon, 03 Feb 2025) EllapsedTime: 85.7 seconds RetCode: 0 Status: OK