Package: TAPseq Version: 1.18.0 Command: chmod a+r TAPseq -R && F:\biocbuild\bbs-3.20-bioc\R\bin\R.exe CMD build --keep-empty-dirs --no-resave-data TAPseq StartedAt: 2025-02-03 22:32:19 -0500 (Mon, 03 Feb 2025) EndedAt: 2025-02-03 22:37:43 -0500 (Mon, 03 Feb 2025) EllapsedTime: 323.5 seconds RetCode: 0 Status: OK PackageFile: TAPseq_1.18.0.tar.gz PackageFileSize: 2.437 MiB