Package: TAPseq Version: 1.18.0 Command: F:\biocbuild\bbs-3.20-bioc\R\bin\R.exe CMD INSTALL TAPseq StartedAt: 2025-02-10 16:13:02 -0500 (Mon, 10 Feb 2025) EndedAt: 2025-02-10 16:14:28 -0500 (Mon, 10 Feb 2025) EllapsedTime: 86.2 seconds RetCode: 0 Status: OK