Package: TAPseq Version: 1.18.0 Command: /home/biocbuild/bbs-3.20-bioc/R/bin/R CMD check --install=check:TAPseq.install-out.txt --library=/home/biocbuild/bbs-3.20-bioc/R/site-library --timings TAPseq_1.18.0.tar.gz StartedAt: 2024-11-20 10:34:38 -0500 (Wed, 20 Nov 2024) EndedAt: 2024-11-20 10:46:41 -0500 (Wed, 20 Nov 2024) EllapsedTime: 722.6 seconds RetCode: 0 Status: WARNINGS CheckDir: TAPseq.Rcheck Warnings: 1