Package: TBSignatureProfiler Version: 1.18.0 Command: /Library/Frameworks/R.framework/Resources/bin/R CMD build --keep-empty-dirs --no-resave-data TBSignatureProfiler StartedAt: 2025-02-10 22:52:16 -0500 (Mon, 10 Feb 2025) EndedAt: 2025-02-10 22:53:09 -0500 (Mon, 10 Feb 2025) EllapsedTime: 52.9 seconds RetCode: 1 Status: ERROR PackageFile: None PackageFileSize: NA