Package: TBSignatureProfiler Version: 1.18.0 Command: /home/biocbuild/bbs-3.20-bioc/R/bin/R CMD build --keep-empty-dirs --no-resave-data --md5 TBSignatureProfiler StartedAt: 2025-02-03 19:36:21 -0500 (Mon, 03 Feb 2025) EndedAt: 2025-02-03 19:36:42 -0500 (Mon, 03 Feb 2025) EllapsedTime: 21.0 seconds RetCode: 1 Status: ERROR PackageFile: None PackageFileSize: NA