Package: TBSignatureProfiler Version: 1.18.0 Command: chmod a+r TBSignatureProfiler -R && F:\biocbuild\bbs-3.20-bioc\R\bin\R.exe CMD build --keep-empty-dirs --no-resave-data TBSignatureProfiler StartedAt: 2025-02-03 22:33:06 -0500 (Mon, 03 Feb 2025) EndedAt: 2025-02-03 22:33:41 -0500 (Mon, 03 Feb 2025) EllapsedTime: 34.7 seconds RetCode: 1 Status: ERROR PackageFile: None PackageFileSize: NA