Package: TBSignatureProfiler Version: 1.18.0 Command: F:\biocbuild\bbs-3.20-bioc\R\bin\R.exe CMD INSTALL TBSignatureProfiler StartedAt: 2025-02-03 16:41:40 -0500 (Mon, 03 Feb 2025) EndedAt: 2025-02-03 16:42:12 -0500 (Mon, 03 Feb 2025) EllapsedTime: 32.2 seconds RetCode: 0 Status: OK