Package: TBSignatureProfiler Version: 1.18.0 Command: /home/biocbuild/R/R/bin/R CMD build --keep-empty-dirs --no-resave-data TBSignatureProfiler StartedAt: 2025-02-04 03:28:35 -0000 (Tue, 04 Feb 2025) EndedAt: 2025-02-04 03:29:15 -0000 (Tue, 04 Feb 2025) EllapsedTime: 40.1 seconds RetCode: 1 Status: ERROR PackageFile: None PackageFileSize: NA