Package: TCC Version: 1.46.0 Command: /Library/Frameworks/R.framework/Resources/bin/R CMD build --keep-empty-dirs --no-resave-data TCC StartedAt: 2025-01-30 23:22:52 -0500 (Thu, 30 Jan 2025) EndedAt: 2025-01-30 23:26:41 -0500 (Thu, 30 Jan 2025) EllapsedTime: 228.4 seconds RetCode: 0 Status: OK PackageFile: TCC_1.46.0.tar.gz PackageFileSize: 2.603 MiB