Package: TCC Version: 1.46.0 Command: /Library/Frameworks/R.framework/Resources/bin/R CMD INSTALL TCC StartedAt: 2025-01-30 15:32:12 -0500 (Thu, 30 Jan 2025) EndedAt: 2025-01-30 15:33:18 -0500 (Thu, 30 Jan 2025) EllapsedTime: 65.8 seconds RetCode: 0 Status: OK