Package: TCC Version: 1.46.0 Command: /home/biocbuild/bbs-3.20-bioc/R/bin/R CMD build --keep-empty-dirs --no-resave-data --md5 TCC StartedAt: 2025-02-03 19:36:21 -0500 (Mon, 03 Feb 2025) EndedAt: 2025-02-03 19:37:54 -0500 (Mon, 03 Feb 2025) EllapsedTime: 93.4 seconds RetCode: 0 Status: OK PackageFile: TCC_1.46.0.tar.gz PackageFileSize: 3.187 MiB