Package: TCC Version: 1.46.0 Command: /home/biocbuild/bbs-3.20-bioc/R/bin/R CMD check --install=check:TCC.install-out.txt --library=/home/biocbuild/bbs-3.20-bioc/R/site-library --timings TCC_1.46.0.tar.gz StartedAt: 2025-02-04 03:07:12 -0500 (Tue, 04 Feb 2025) EndedAt: 2025-02-04 03:12:17 -0500 (Tue, 04 Feb 2025) EllapsedTime: 305.3 seconds RetCode: 0 Status: OK CheckDir: TCC.Rcheck Warnings: 0