Package: TCC Version: 1.46.0 Command: /home/biocbuild/bbs-3.20-bioc/R/bin/R CMD INSTALL TCC StartedAt: 2025-02-03 15:29:03 -0500 (Mon, 03 Feb 2025) EndedAt: 2025-02-03 15:29:30 -0500 (Mon, 03 Feb 2025) EllapsedTime: 26.8 seconds RetCode: 0 Status: OK