Package: TCC Version: 1.46.0 Command: chmod a+r TCC -R && F:\biocbuild\bbs-3.20-bioc\R\bin\R.exe CMD build --keep-empty-dirs --no-resave-data TCC StartedAt: 2025-01-30 22:15:51 -0500 (Thu, 30 Jan 2025) EndedAt: 2025-01-30 22:18:10 -0500 (Thu, 30 Jan 2025) EllapsedTime: 139.4 seconds RetCode: 0 Status: OK PackageFile: TCC_1.46.0.tar.gz PackageFileSize: 1.366 MiB