Package: TCGAbiolinks Version: 2.34.0 Command: /Library/Frameworks/R.framework/Resources/bin/R CMD build --keep-empty-dirs --no-resave-data TCGAbiolinks StartedAt: 2025-01-31 09:21:29 -0500 (Fri, 31 Jan 2025) EndedAt: 2025-01-31 09:26:09 -0500 (Fri, 31 Jan 2025) EllapsedTime: 279.6 seconds RetCode: 1 Status: ERROR PackageFile: None PackageFileSize: NA