Package: TCGAbiolinks Version: 2.34.0 Command: /Library/Frameworks/R.framework/Resources/bin/R CMD build --keep-empty-dirs --no-resave-data TCGAbiolinks StartedAt: 2025-01-30 23:23:12 -0500 (Thu, 30 Jan 2025) EndedAt: 2025-01-30 23:29:21 -0500 (Thu, 30 Jan 2025) EllapsedTime: 368.9 seconds RetCode: 1 Status: ERROR PackageFile: None PackageFileSize: NA