Package: TCGAbiolinks Version: 2.34.0 Command: /home/biocbuild/bbs-3.20-bioc/R/bin/R CMD build --keep-empty-dirs --no-resave-data --md5 TCGAbiolinks StartedAt: 2025-02-03 19:36:21 -0500 (Mon, 03 Feb 2025) EndedAt: 2025-02-03 19:40:22 -0500 (Mon, 03 Feb 2025) EllapsedTime: 241.5 seconds RetCode: 1 Status: ERROR PackageFile: None PackageFileSize: NA