Package: TCGAbiolinks Version: 2.34.0 Command: F:\biocbuild\bbs-3.20-bioc\R\bin\R.exe CMD check --no-multiarch --install=check:TCGAbiolinks.install-out.txt --library=F:\biocbuild\bbs-3.20-bioc\R\library --no-vignettes --timings TCGAbiolinks_2.34.0.tar.gz StartedAt: 2024-11-21 06:11:07 -0500 (Thu, 21 Nov 2024) EndedAt: 2024-11-21 06:21:10 -0500 (Thu, 21 Nov 2024) EllapsedTime: 602.5 seconds RetCode: 0 Status: WARNINGS CheckDir: TCGAbiolinks.Rcheck Warnings: 2