Package: TCGAbiolinks Version: 2.34.0 Command: /home/biocbuild/R/R/bin/R CMD INSTALL TCGAbiolinks StartedAt: 2025-01-30 20:34:57 -0000 (Thu, 30 Jan 2025) EndedAt: 2025-01-30 20:35:47 -0000 (Thu, 30 Jan 2025) EllapsedTime: 50.0 seconds RetCode: 0 Status: OK