Package: TCGAutils Version: 1.26.0 Command: /Library/Frameworks/R.framework/Resources/bin/R CMD check --install=check:TCGAutils.install-out.txt --library=/Library/Frameworks/R.framework/Resources/library --no-vignettes --timings TCGAutils_1.26.0.tar.gz StartedAt: 2025-02-05 12:32:49 -0500 (Wed, 05 Feb 2025) EndedAt: 2025-02-05 12:42:01 -0500 (Wed, 05 Feb 2025) EllapsedTime: 551.8 seconds RetCode: 0 Status: OK CheckDir: TCGAutils.Rcheck Warnings: 0