Package: TCGAutils Version: 1.26.0 Command: /Library/Frameworks/R.framework/Resources/bin/R CMD build --keep-empty-dirs --no-resave-data TCGAutils StartedAt: 2025-02-03 22:51:54 -0500 (Mon, 03 Feb 2025) EndedAt: 2025-02-03 22:56:52 -0500 (Mon, 03 Feb 2025) EllapsedTime: 297.8 seconds RetCode: 0 Status: OK PackageFile: TCGAutils_1.26.0.tar.gz PackageFileSize: 398.2 KiB