Package: TCGAutils Version: 1.26.0 Command: /Library/Frameworks/R.framework/Resources/bin/R CMD INSTALL TCGAutils StartedAt: 2025-02-03 15:41:34 -0500 (Mon, 03 Feb 2025) EndedAt: 2025-02-03 15:42:58 -0500 (Mon, 03 Feb 2025) EllapsedTime: 84.0 seconds RetCode: 0 Status: OK