Package: TCGAutils Version: 1.26.0 Command: rm -rf TCGAutils.buildbin-libdir && mkdir TCGAutils.buildbin-libdir && F:\biocbuild\bbs-3.20-bioc\R\bin\R.exe CMD INSTALL --build --library=TCGAutils.buildbin-libdir TCGAutils_1.26.0.tar.gz StartedAt: 2025-02-11 09:38:03 -0500 (Tue, 11 Feb 2025) EndedAt: 2025-02-11 09:39:02 -0500 (Tue, 11 Feb 2025) EllapsedTime: 58.6 seconds RetCode: 0 Status: OK PackageFile: TCGAutils_1.26.0.zip PackageFileSize: 456.8 KiB