Package: TCseq Version: 1.30.0 Command: rm -rf TCseq.buildbin-libdir && mkdir TCseq.buildbin-libdir && /Users/biocbuild/BBS/utils/build-universal.sh TCseq_1.30.0.tar.gz /Library/Frameworks/R.framework/Resources/bin/R TCseq.buildbin-libdir StartedAt: 2025-02-01 17:09:37 -0500 (Sat, 01 Feb 2025) EndedAt: 2025-02-01 17:10:14 -0500 (Sat, 01 Feb 2025) EllapsedTime: 37.3 seconds RetCode: 0 Status: OK PackageFile: TCseq_1.30.0.tgz PackageFileSize: 837.8 KiB