Package: TCseq Version: 1.30.0 Command: rm -rf TCseq.buildbin-libdir && mkdir TCseq.buildbin-libdir && /Users/biocbuild/BBS/utils/build-universal.sh TCseq_1.30.0.tar.gz /Library/Frameworks/R.framework/Resources/bin/R TCseq.buildbin-libdir StartedAt: 2025-01-31 13:50:24 -0500 (Fri, 31 Jan 2025) EndedAt: 2025-01-31 13:51:28 -0500 (Fri, 31 Jan 2025) EllapsedTime: 64.5 seconds RetCode: 0 Status: OK PackageFile: TCseq_1.30.0.tgz PackageFileSize: 837.5 KiB