Package: TCseq Version: 1.30.0 Command: rm -rf TCseq.buildbin-libdir && mkdir TCseq.buildbin-libdir && F:\biocbuild\bbs-3.20-bioc\R\bin\R.exe CMD INSTALL --build --library=TCseq.buildbin-libdir TCseq_1.30.0.tar.gz StartedAt: 2025-02-04 09:39:44 -0500 (Tue, 04 Feb 2025) EndedAt: 2025-02-04 09:40:27 -0500 (Tue, 04 Feb 2025) EllapsedTime: 42.5 seconds RetCode: 0 Status: OK PackageFile: TCseq_1.30.0.zip PackageFileSize: 740.1 KiB