Package: TCseq Version: 1.30.0 Command: /home/biocbuild/R/R/bin/R CMD build --keep-empty-dirs --no-resave-data TCseq StartedAt: 2025-02-04 03:29:00 -0000 (Tue, 04 Feb 2025) EndedAt: 2025-02-04 03:30:07 -0000 (Tue, 04 Feb 2025) EllapsedTime: 67.1 seconds RetCode: 0 Status: OK PackageFile: TCseq_1.30.0.tar.gz PackageFileSize: 1.108 MiB