Package: TCseq Version: 1.30.0 Command: /home/biocbuild/R/R/bin/R CMD INSTALL TCseq StartedAt: 2025-02-10 20:25:12 -0000 (Mon, 10 Feb 2025) EndedAt: 2025-02-10 20:25:47 -0000 (Mon, 10 Feb 2025) EllapsedTime: 35.5 seconds RetCode: 0 Status: OK