Package: TEKRABber Version: 1.10.0 Command: /Library/Frameworks/R.framework/Resources/bin/R CMD build --keep-empty-dirs --no-resave-data TEKRABber StartedAt: 2025-02-11 09:32:23 -0500 (Tue, 11 Feb 2025) EndedAt: 2025-02-11 09:34:34 -0500 (Tue, 11 Feb 2025) EllapsedTime: 131.3 seconds RetCode: 0 Status: OK PackageFile: TEKRABber_1.10.0.tar.gz PackageFileSize: 3.44 MiB