Package: TEKRABber Version: 1.10.0 Command: chmod a+r TEKRABber -R && F:\biocbuild\bbs-3.20-bioc\R\bin\R.exe CMD build --keep-empty-dirs --no-resave-data TEKRABber StartedAt: 2025-02-03 22:33:56 -0500 (Mon, 03 Feb 2025) EndedAt: 2025-02-03 22:36:23 -0500 (Mon, 03 Feb 2025) EllapsedTime: 147.3 seconds RetCode: 0 Status: OK PackageFile: TEKRABber_1.10.0.tar.gz PackageFileSize: 3.44 MiB