Package: TEKRABber Version: 1.10.0 Command: /home/biocbuild/R/R/bin/R CMD build --keep-empty-dirs --no-resave-data TEKRABber StartedAt: 2025-02-04 03:29:08 -0000 (Tue, 04 Feb 2025) EndedAt: 2025-02-04 03:32:07 -0000 (Tue, 04 Feb 2025) EllapsedTime: 179.2 seconds RetCode: 0 Status: OK PackageFile: TEKRABber_1.10.0.tar.gz PackageFileSize: 3.463 MiB